BEGIN:VCALENDAR
VERSION:2.0
PRODID:-//eventon.com NONSGML v1.0//EN
CALSCALE:GREGORIAN
METHOD:PUBLISH
BEGIN:VEVENT
UID:69e5ea4bab0f3
DTSTAMP:20260420T085643Z
DTSTART:20260414T223000Z
DTEND:20260415T010000Z
LOCATION:CRP Les Relevailles de MontrÃ©al 14115\,  rue Prince-Arthur\,  bureau 341
SUMMARY:Rencontres prÃ©natales : Ensemble vers la parentalitÃ© 7/8
DESCRIPTION:2 rencontres en postnatal\,  propose une approche complÃ¨te et 
 inclusive pour accompagner les parents dans leur cheminement vers la parent
 alitÃ©. Ces rencontres offrent un espace dâ€™Ã©change\,  de rÃ©flexion et d
 â€™apprentissage. DÃ©roulement des rencontres Les deux rencontres postnatal
 es SpÃ©ciales Retrouvailles sont conÃ§ues pour accompagner les parents aprÃ
 ¨s la naissance. Dans une[..]\nhttps://relevailles.com/evenement/rencontres
 -prenatales-ensemble-vers-la-parentalite-7-8-4/
URL:https://relevailles.com/evenement/rencontres-prenatales-ensemble-vers-la-parentalite-7-8-4/
END:VEVENT
END:VCALENDAR