BEGIN:VCALENDAR
VERSION:2.0
PRODID:-//eventon.com NONSGML v1.0//EN
CALSCALE:GREGORIAN
METHOD:PUBLISH
BEGIN:VEVENT
UID:69e6326390d3b
DTSTAMP:20260420T140419Z
DTSTART:20251003T173000Z
DTEND:20251003T190000Z
LOCATION:CRP Les Relevailles de MontrÃ©al 14115\,  rue Prince-Arthur\,  bureau 341
SUMMARY:Yoga avec bÃ©bÃ© 1/6
DESCRIPTION:Ces rencontres permettent aux parents de se donner un temps dâ€
 ™arrÃªt pour profiter pleinement du moment prÃ©sent avec bÃ©bÃ© et de crÃ©e
 r un contact rÃ©el avec lui\,  et ce\,  Ã  travers diffÃ©rents exercices de
  yoga\,  des chants\,  des sons et des postures adaptÃ©es. Informations Pou
 r les parents avec bÃ©bÃ© Ã¢gÃ©[..]\nhttps://relevailles.com/evenement/yoga
 -avec-bebe-1-6-3/
URL:https://relevailles.com/evenement/yoga-avec-bebe-1-6-3/
END:VEVENT
END:VCALENDAR