BEGIN:VCALENDAR
VERSION:2.0
PRODID:-//eventon.com NONSGML v1.0//EN
CALSCALE:GREGORIAN
METHOD:PUBLISH
BEGIN:VEVENT
UID:69e61f5997563
DTSTAMP:20260420T124305Z
DTSTART:20250427T110000Z
DTEND:20250427T123000Z
LOCATION:
SUMMARY:Yoga avec bÃ©bÃ© 6/6
DESCRIPTION:Ces rencontres permettent aux parents de se donner un temps dâ€
 ™arrÃªt pour profiter pleinement du moment prÃ©sent avec bÃ©bÃ© et de crÃ©e
 r un contact rÃ©el avec lui\,  et ce\,  Ã  travers diffÃ©rents exercices de
  yoga\,  des chants\,  des sons et des postures adaptÃ©es. Informations Pou
 r les parents avec bÃ©bÃ© Ã¢gÃ©[..]\nhttps://relevailles.com/evenement/yoga
 -avec-bebe-6-6-2/
URL:https://relevailles.com/evenement/yoga-avec-bebe-6-6-2/
END:VEVENT
END:VCALENDAR