BEGIN:VCALENDAR
VERSION:2.0
PRODID:-//eventon.com NONSGML v1.0//EN
CALSCALE:GREGORIAN
METHOD:PUBLISH
BEGIN:VEVENT
UID:69e6323aac91e
DTSTAMP:20260420T140338Z
DTSTART:20250406T110000Z
DTEND:20250406T123000Z
LOCATION:
SUMMARY:Yoga avec bébé 4/6
DESCRIPTION:Ces rencontres en ligne permettent aux parents de se donner un 
 temps d’arrêt pour profiter pleinement du moment présent avec bébé et
  de créer un contact réel avec lui\,  et ce\,  à travers différents exe
 rcices de yoga\,  des chants\,  des sons et des postures adaptées. Informa
 tions Pour les parents avec[..]\nhttps://relevailles.com/evenement/yoga-ave
 c-bebe-4-6-2/
URL:https://relevailles.com/evenement/yoga-avec-bebe-4-6-2/
END:VEVENT
END:VCALENDAR