BEGIN:VCALENDAR
VERSION:2.0
PRODID:-//eventon.com NONSGML v1.0//EN
CALSCALE:GREGORIAN
METHOD:PUBLISH
BEGIN:VEVENT
UID:69e612c930b49
DTSTAMP:20260420T114929Z
DTSTART:20250127T133000Z
DTEND:20250127T153000Z
LOCATION:CRP Les Relevailles de Montréal 14115\,  rue Prince-Arthur\,  bureau 341
SUMMARY:À table avec bébé 2/3
DESCRIPTION:Que vous vouliez opter pour une approche traditionnelle d’int
 roduction en servant des purées à votre bébé ou bien par l’approche d
 e Diversification alimentaire menée par l’enfant (DME)\,  cette série e
 st pour vous.Ces trois rencontres visent à informer et à clarifier certai
 nes recommandations reliées à l’introduction des aliments complémentai
 res dans le[..]\nhttps://relevailles.com/evenement/a-table-avec-bebe-2-3/
URL:https://relevailles.com/evenement/a-table-avec-bebe-2-3/
END:VEVENT
END:VCALENDAR