BEGIN:VCALENDAR
VERSION:2.0
PRODID:-//eventon.com NONSGML v1.0//EN
CALSCALE:GREGORIAN
METHOD:PUBLISH
BEGIN:VEVENT
UID:69e4e9869b7d5
DTSTAMP:20260419T144110Z
DTSTART:20250207T143000Z
DTEND:20250207T163000Z
LOCATION:Maison de naissance Anne Courtemanche 4500 Rue de Contrecoeur\,  Montréal\,  QC H1K 0L1
SUMMARY:Massage pour bébé 4/5
DESCRIPTION:Le massage est une nourriture affective pour le bébé et une o
 ccasion unique de lui témoigner amour et tendresse. Avec la naissance\,  b
 ébé perd tous les repères qu’il avait quand il était bercé dans le v
 entre de sa mère. Les séances de massage l’aident à retrouver ces douc
 es sensations et[..]\nhttps://relevailles.com/evenement/massage-pour-bebe-4
 -5/
URL:https://relevailles.com/evenement/massage-pour-bebe-4-5/
END:VEVENT
END:VCALENDAR