BEGIN:VCALENDAR
VERSION:2.0
PRODID:-//eventon.com NONSGML v1.0//EN
CALSCALE:GREGORIAN
METHOD:PUBLISH
BEGIN:VEVENT
UID:69e88b4972b9e
DTSTAMP:20260422T084809Z
DTSTART:20241125T093000Z
DTEND:20241125T113000Z
LOCATION:CRP Les Relevailles de Montréal 14115\,  rue Prince-Arthur\,  bureau 341
SUMMARY:Atelier sur la sexualité des enfants
DESCRIPTION:Curiosité et exploration : Comprendre le monde psychosexuel de
 s tout-petits Vous vous interrogez sur les premiers comportements sexuels c
 hez les enfants de 0 à 5 ans\,  sur l&rsquo;auto-stimulation ou encore l&r
 squo;apprentissage du consentement? Dans une rencontre animée par Laurence
  Michaud\,  stagiaire en sexologie\,  vous explorerez comment accompagner l
 es jeunes enfants[..]\nhttps://relevailles.com/evenement/atelier-sexologiqu
 e/
URL:https://relevailles.com/evenement/atelier-sexologique/
END:VEVENT
END:VCALENDAR