BEGIN:VCALENDAR
VERSION:2.0
PRODID:-//eventon.com NONSGML v1.0//EN
CALSCALE:GREGORIAN
METHOD:PUBLISH
BEGIN:VEVENT
UID:69e7424058ae4
DTSTAMP:20260421T092416Z
DTSTART:20241127T130000Z
DTEND:20241127T150000Z
LOCATION:CRP Les Relevailles de Montréal 14115\,  rue Prince-Arthur\,  bureau 341
SUMMARY:Rencontre intergénérationnelle
DESCRIPTION:Devenir parent en 1960 ou en 2024 est-ce si différent? Cette r
 encontre fait partie du projet « Mon époque\,  mon histoire » et aura li
 eu dans les locaux du CRP Les Relevailles de Montréal en collaboration ave
 c le Manoir Pointe-aux-Trembles. Le projet a comme objectif de rédiger un 
 livre sur[..]\nhttps://relevailles.com/evenement/rencontre-intergenerationn
 elle/
URL:https://relevailles.com/evenement/rencontre-intergenerationnelle/
END:VEVENT
END:VCALENDAR