BEGIN:VCALENDAR
VERSION:2.0
PRODID:-//eventon.com NONSGML v1.0//EN
CALSCALE:GREGORIAN
METHOD:PUBLISH
BEGIN:VEVENT
UID:69e742aecaa6f
DTSTAMP:20260421T092606Z
DTSTART:20241119
DTEND:20241120
LOCATION:CRP Les Relevailles de Montréal 14115\,  rue Prince-Arthur\,  bureau 341
SUMMARY:La grande semaine des tout-petits
DESCRIPTION:Viens confectionner ton monstre en famille. Du 19 au 22 novembr
 e\,  dans le Café des Relevailles vous trouverez différents modèles de m
 onstres à confectionner afin de souligner La grande semaine des tout-petit
 s. C&rsquo;est gratuit et ouvert à tous. Nous vous invitons à identifier 
 le CRP lors de votre passage et/ou[..]\nhttps://relevailles.com/evenement/l
 a-grande-semaine-des-tout-petits-2/
URL:https://relevailles.com/evenement/la-grande-semaine-des-tout-petits-2/
END:VEVENT
END:VCALENDAR