BEGIN:VCALENDAR
VERSION:2.0
PRODID:-//eventon.com NONSGML v1.0//EN
CALSCALE:GREGORIAN
METHOD:PUBLISH
BEGIN:VEVENT
UID:69e612c8ba62a
DTSTAMP:20260420T114928Z
DTSTART:20241103T160000Z
DTEND:20241103T173000Z
LOCATION:
SUMMARY:Yoga avec bébé
DESCRIPTION:Ces rencontres en ligne permettent aux parents de se donner un 
 temps d’arrêt pour profiter pleinement du moment présent avec bébé et
  de créer un contact réel avec lui\,  et ce\,  à travers différents exe
 rcices de yoga\,  des chants\,  des sons et des postures adaptées. Informa
 tions Pour les parents avec[..]\nhttps://relevailles.com/evenement/yoga-ave
 c-bebe-3/
URL:https://relevailles.com/evenement/yoga-avec-bebe-3/
END:VEVENT
END:VCALENDAR