BEGIN:VCALENDAR
VERSION:2.0
PRODID:-//eventon.com NONSGML v1.0//EN
CALSCALE:GREGORIAN
METHOD:PUBLISH
BEGIN:VEVENT
UID:69e600c54e6dc
DTSTAMP:20260420T103237Z
DTSTART:20240729T133000Z
DTEND:20240729T153000Z
LOCATION:CRP Les Relevailles de Montréal 14115\,  rue Prince-Arthur\,  bureau 341
SUMMARY:À table avec bébé
DESCRIPTION:Que vous vouliez opter pour une approche traditionnelle d’int
 roduction en servant des purées à votre bébé ou bien par l’approche d
 e Diversification alimentaire menée par l’enfant (DME)\,  cette série e
 st pour vous.Ces trois rencontres visent à informer et à clarifier certai
 nes recommandations reliées à l’introduction des aliments complémentai
 res dans le[..]\nhttps://relevailles.com/evenement/a-table-avec-bebe/
URL:https://relevailles.com/evenement/a-table-avec-bebe/
END:VEVENT
END:VCALENDAR