BEGIN:VCALENDAR
VERSION:2.0
PRODID:-//eventon.com NONSGML v1.0//EN
CALSCALE:GREGORIAN
METHOD:PUBLISH
BEGIN:VEVENT
UID:69e612c80e1ce
DTSTAMP:20260420T114928Z
DTSTART:20240529T230000Z
DTEND:20240530T010000Z
LOCATION:CRP Les Relevailles de Montréal 14115\,  rue Prince-Arthur\,  bureau 341
SUMMARY:Être parents\,  un travail d'équipe
DESCRIPTION:ÊTRE PARENTS\,  UN TRAVAIL D’ÉQUIPE vous propose de relever
  le défi de co-construire votre équipe de parents\,  tout en tenant compt
 e de vos valeurs\,  besoins\,  personnalités et aspirations. Par des activ
 ités individuelles\,  de couple et de groupe\,  cette série de rencontres
  vous accompagnera dans la mise en œuvre d’un plan[..]\nhttps://relevail
 les.com/evenement/etre-parents-un-travail-dequipe-9/
URL:https://relevailles.com/evenement/etre-parents-un-travail-dequipe-9/
END:VEVENT
END:VCALENDAR