BEGIN:VCALENDAR
VERSION:2.0
PRODID:-//eventon.com NONSGML v1.0//EN
CALSCALE:GREGORIAN
METHOD:PUBLISH
BEGIN:VEVENT
UID:69e61fa0e0785
DTSTAMP:20260420T124416Z
DTSTART:20240521T173000Z
DTEND:20240521T193000Z
LOCATION:Maison de naissance Anne Courtemanche 4500 Rue de Contrecoeur\,  Montréal\,  QC H1K 0L1
SUMMARY:Rencontres postnatales
DESCRIPTION:Ce sont des rencontres à privilégier même si la fatigue est 
 au rendez-vous. Elles permettent de venir se déposer\,  sans tabous\,  ave
 c des thèmes dirigés\,  mais surtout ouverts et inclusifs. Les rencontres
  permettent de comprendre et s’adapter à notre nouvelle réalité avec b
 ébé\,  avec nos nouveaux rôles\,  en tant que[..]\nhttps://relevailles.c
 om/evenement/rencontres-postnatales-18/
URL:https://relevailles.com/evenement/rencontres-postnatales-18/
END:VEVENT
END:VCALENDAR