BEGIN:VCALENDAR
VERSION:2.0
PRODID:-//eventon.com NONSGML v1.0//EN
CALSCALE:GREGORIAN
METHOD:PUBLISH
BEGIN:VEVENT
UID:69e5ed1573677
DTSTAMP:20260420T090837Z
DTSTART:20240318T170000Z
DTEND:20240318T180000Z
LOCATION:
SUMMARY:Conférence secourisme
DESCRIPTION:Cette conférence vous donnera des informations sur les risques
  d’étouffement et le déblocage des voies respiratoires chez le bébé e
 t le bambin. On y abordera aussi les allergies sévères\,  l’utilisation
  du défibrillateur (DEA) et la réanimation cardio-respiratoire (RCR). Ani
 mée par un formateur qualifié\,  cette séance d’informations se veut s
 écurisante pour[..]\nhttps://relevailles.com/evenement/conference-secouris
 me-3/
URL:https://relevailles.com/evenement/conference-secourisme-3/
END:VEVENT
END:VCALENDAR