BEGIN:VCALENDAR
VERSION:2.0
PRODID:-//eventon.com NONSGML v1.0//EN
CALSCALE:GREGORIAN
METHOD:PUBLISH
BEGIN:VEVENT
UID:69e4e9123d986
DTSTAMP:20260419T143914Z
DTSTART:20240208T143000Z
DTEND:20240208T170000Z
LOCATION:
SUMMARY:Portage au dos
DESCRIPTION:Cet atelier vise à faire connaître d’autres nœuds et posit
 ions de portage en écharpe\,  notamment au dos\,  aux parents qui utilisen
 t déjà l’écharpe de portage avec leur bébé. Vous verrez l’évoluti
 on du portage selon le développement de bébé. Aussi\,  des exercices ave
 c l’écharpe de portage seront proposés aux parents pour[..]\nhttps://re
 levailles.com/evenement/portage-au-dos-8/
URL:https://relevailles.com/evenement/portage-au-dos-8/
END:VEVENT
END:VCALENDAR