BEGIN:VCALENDAR
VERSION:2.0
PRODID:-//eventon.com NONSGML v1.0//EN
CALSCALE:GREGORIAN
METHOD:PUBLISH
BEGIN:VEVENT
UID:69e61fd06c851
DTSTAMP:20260420T124504Z
DTSTART:20231209T160000Z
DTEND:20231209T203000Z
LOCATION:CRP Les Relevailles de MontrÃ©al 14115\,  rue Prince-Arthur\,  bureau 341
SUMMARY:La FÃªte de NoÃ«l du CRP
DESCRIPTION:C&rsquo;est la grande FÃªte de NoÃ«l du CRP avec le retour de s
 on traditionnel diner potluck! Venez fÃªter NoÃ«l en famille avec l&rsquo;Ã
 ©quipe du CRP! Quand: Samedi 9 dÃ©cembre dÃ¨s 11 h OÃ¹: 14115 Prince-Arthur
 \,  local 163-A Au menu: * Diner partage ; Photo avec le PÃ¨re NoÃ«l dans u
 n[..]\nhttps://relevailles.com/evenement/la-fete-de-noel-du-crp-2/
URL:https://relevailles.com/evenement/la-fete-de-noel-du-crp-2/
END:VEVENT
END:VCALENDAR