BEGIN:VCALENDAR
VERSION:2.0
PRODID:-//eventon.com NONSGML v1.0//EN
CALSCALE:GREGORIAN
METHOD:PUBLISH
BEGIN:VEVENT
UID:69e88a4fab477
DTSTAMP:20260422T084359Z
DTSTART:20230909T133000Z
DTEND:20230909T193000Z
LOCATION:CRP Les Relevailles de Montréal 14115\,  rue Prince-Arthur\,  bureau 341
SUMMARY:Fête de la rentrée et Journée portes ouvertes
DESCRIPTION:Réserve ta journée du 9 septembre pour venir nous rencontrer 
 au Centre! L’événement se déroulera de9 h 30 à 15 h 30. Invite des am
 i.es\,  ta famille\,  des voisins\,  etc. Voici l&rsquo;horaire de la journ
 ée : 9 h 30: Accueil 10 h 00: Début de l&rsquo;activité ludique (Fabrica
 tion de jouet[..]\nhttps://relevailles.com/evenement/fete-de-la-rentree-et-
 journee-portes-ouvertes-3/
URL:https://relevailles.com/evenement/fete-de-la-rentree-et-journee-portes-ouvertes-3/
END:VEVENT
END:VCALENDAR