BEGIN:VCALENDAR
VERSION:2.0
PRODID:-//eventon.com NONSGML v1.0//EN
CALSCALE:GREGORIAN
METHOD:PUBLISH
BEGIN:VEVENT
UID:69e6008186027
DTSTAMP:20260420T103129Z
DTSTART:20230706T170000Z
DTEND:20230706T193000Z
LOCATION:CRP Les Relevailles de Montréal 14115\,  rue Prince-Arthur\,  bureau 341
SUMMARY:Café-Collation
DESCRIPTION:Tu as fait toutes les activités du CRP ? Tu voudrais voir des 
 parents plus souvent et stimuler ta fibre sociale ? On sort et on va se gâ
 ter aux cafés-collations organisés par Catherine\,  membre du crp! Sujets
  illimités ! et collation spéciale gratuite !&nbsp; Le jeudi 6 juillet à
 [..]\nhttps://relevailles.com/evenement/cafe-collation-3/
URL:https://relevailles.com/evenement/cafe-collation-3/
END:VEVENT
END:VCALENDAR