BEGIN:VCALENDAR
VERSION:2.0
PRODID:-//eventon.com NONSGML v1.0//EN
CALSCALE:GREGORIAN
METHOD:PUBLISH
BEGIN:VEVENT
UID:69e4d7111d9cd
DTSTAMP:20260419T132225Z
DTSTART:20230504T230000Z
DTEND:20230505T013000Z
LOCATION:CRP Les Relevailles de Montréal 14115\,  rue Prince-Arthur\,  bureau 341
SUMMARY:Groupe de partage - L'Empreinte en présentiel  et en ligne
DESCRIPTION:Le Groupe de partage L’Empreinte permet aux parents qui viven
 t un deuil périnatal d’avoir un lieu de soutien\,  d’écoute et de ré
 confort qui permet à chacun de faire son propre cheminement. C’est aussi
  un espace d’expression qui accueille les différentes émotions et un en
 droit chaleureux et respectueux. Informations Groupe de[..]\nhttps://releva
 illes.com/evenement/groupe-de-partage-lempreinte-en-presentiel-11/
URL:https://relevailles.com/evenement/groupe-de-partage-lempreinte-en-presentiel-11/
END:VEVENT
END:VCALENDAR