BEGIN:VCALENDAR
VERSION:2.0
PRODID:-//eventon.com NONSGML v1.0//EN
CALSCALE:GREGORIAN
METHOD:PUBLISH
BEGIN:VEVENT
UID:69e632abb38eb
DTSTAMP:20260420T140531Z
DTSTART:20230406T173000Z
DTEND:20230406T193000Z
LOCATION:https://us04web.zoom.us/j/332166438
SUMMARY:Halte-allaitement en ligne
DESCRIPTION:Une halte-allaitement est dâ€™abord et avant tout un lieu de so
 utien\,  dâ€™informations et dâ€™Ã©changes. On y vient pour obtenir du sout
 ien pour la mise au sein\,  trouver et partager des trucs\,  rencontrer dâ€
 ™autres parents et poser les mille et une questions entourant la vie de bÃ©
 bÃ©. Les rencontres sont animÃ©es[..]\nhttps://relevailles.com/evenement/ha
 lte-allaitement-en-ligne-28/var/event_access
URL:https://relevailles.com/evenement/halte-allaitement-en-ligne-28/var/event_access
END:VEVENT
END:VCALENDAR