BEGIN:VCALENDAR
VERSION:2.0
PRODID:-//eventon.com NONSGML v1.0//EN
CALSCALE:GREGORIAN
METHOD:PUBLISH
BEGIN:VEVENT
UID:69e89c00a319a
DTSTAMP:20260422T095928Z
DTSTART:20230331T133000Z
DTEND:20230331T153000Z
LOCATION:CRP Les Relevailles de Montréal 14115\,  rue Prince-Arthur\,  bureau 341
SUMMARY:Massage pour bébé
DESCRIPTION:Le massage est une nourriture affective pour le bébé et une o
 ccasion unique de lui témoigner amour et tendresse. Avec la naissance\,  b
 ébé perd tous les repères qu’il avait quand il était bercé dans le v
 entre de sa mère. Les séances de massage l’aident à retrouver ces douc
 es sensations et[..]\nhttps://relevailles.com/evenement/massage-pour-bebe-1
 0/
URL:https://relevailles.com/evenement/massage-pour-bebe-10/
END:VEVENT
END:VCALENDAR