BEGIN:VCALENDAR
VERSION:2.0
PRODID:-//eventon.com NONSGML v1.0//EN
CALSCALE:GREGORIAN
METHOD:PUBLISH
BEGIN:VEVENT
UID:69e5fd569d6a6
DTSTAMP:20260420T101758Z
DTSTART:20220924T140000Z
DTEND:20220924T153000Z
LOCATION:CRP Les Relevailles de Montréal 14115\,  rue Prince-Arthur\,  bureau 341
SUMMARY:Matinées amusantes
DESCRIPTION:Invitation aux parents\,  accompagnés de leur.s enfant.s de 9 
 mois à 5 ans\,  pour un atelier de percussion en les initiant à la cultur
 e Mandingue d’Afrique de l’Ouest. Instruments traditionnels : tambours 
 djembé\,  dunumba\,  sangban\,  kenkeni et des chants traditionnels de la 
 Guinée.&nbsp; Informations Nouvelle formule: De retour à partir[..]\nhttp
 s://relevailles.com/evenement/matinees-amusantes/
URL:https://relevailles.com/evenement/matinees-amusantes/
END:VEVENT
END:VCALENDAR