BEGIN:VCALENDAR
VERSION:2.0
PRODID:-//eventon.com NONSGML v1.0//EN
CALSCALE:GREGORIAN
METHOD:PUBLISH
BEGIN:VEVENT
UID:69e65b1c4d1b1
DTSTAMP:20260420T165804Z
DTSTART:20220925T140000Z
DTEND:20220925T160000Z
LOCATION:CRP Les Relevailles de Montréal 14115\,  rue Prince-Arthur\,  bureau 341
SUMMARY:Groupe de partage - Grossesse espoir
DESCRIPTION:Le groupe de soutien/partage se veut un lieu de réconfort qui 
 permet à chacun de faire sa nouvelle histoire de grossesse. C’est un esp
 ace d’expression qui accueille les pleurs\,  l’anxiété et aussi les s
 ourires et les rires; tout en créant des liens de confiance et même d’a
 mitié qui favorisent l’affirmation[..]\nhttps://relevailles.com/evenemen
 t/groupe-de-partage-grossesse-espoir-2/
URL:https://relevailles.com/evenement/groupe-de-partage-grossesse-espoir-2/
END:VEVENT
END:VCALENDAR