BEGIN:VCALENDAR
VERSION:2.0
PRODID:-//eventon.com NONSGML v1.0//EN
CALSCALE:GREGORIAN
METHOD:PUBLISH
BEGIN:VEVENT
UID:69e5fac52672d
DTSTAMP:20260420T100701Z
DTSTART:20221205T143000Z
DTEND:20221205T163000Z
LOCATION:CRP Les Relevailles de Montréal 14115\,  rue Prince-Arthur\,  bureau 341
SUMMARY:Bébé écolo
DESCRIPTION:Bébé écolo est une série de deux rencontres abordant divers
  sujets tels que les produits hygiéniques réutilisables\,  les couches la
 vables et l’écologie ludique pour les enfants. La rencontre « ÊTRE UN 
 PARENT ÉCOLO » vise à conscientiser les parents à l’écologie et à d
 es alternatives de consommation. La rencontre «[..]\nhttps://relevailles.c
 om/evenement/bebe-ecolo-11/
URL:https://relevailles.com/evenement/bebe-ecolo-11/
END:VEVENT
END:VCALENDAR