BEGIN:VCALENDAR
VERSION:2.0
PRODID:-//eventon.com NONSGML v1.0//EN
CALSCALE:GREGORIAN
METHOD:PUBLISH
BEGIN:VEVENT
UID:69e4d71189d10
DTSTAMP:20260419T132225Z
DTSTART:20221013T173000Z
DTEND:20221013T193000Z
LOCATION:
SUMMARY:Halte-allaitement en prÃ©sentiel
DESCRIPTION:Une halte-allaitement est dâ€™abord et avant tout un lieu de so
 utien\,  dâ€™informations et dâ€™Ã©changes. On y vient pour obtenir du sout
 ien pour la mise au sein\,  trouver et partager des trucs\,  rencontrer dâ€
 ™autres parents et poser les mille et une questions entourant la vie de bÃ©
 bÃ©. Les rencontres sont animÃ©es[..]\nhttps://relevailles.com/evenement/ha
 lte-allaitement-en-presentiel-22/
URL:https://relevailles.com/evenement/halte-allaitement-en-presentiel-22/
END:VEVENT
END:VCALENDAR