BEGIN:VCALENDAR
VERSION:2.0
PRODID:-//eventon.com NONSGML v1.0//EN
CALSCALE:GREGORIAN
METHOD:PUBLISH
BEGIN:VEVENT
UID:69e5ecfe1c0eb
DTSTAMP:20260420T090814Z
DTSTART:20220525T170000Z
DTEND:20220525T193000Z
LOCATION:CRP Les Relevailles de MontrÃ©al 14115\,  rue Prince-Arthur\,  bureau 341
SUMMARY:La FÃªte famille
DESCRIPTION:DÃ¨s 13 h\,  le CRP vous propose une activitÃ© d&#8217;empreint
 e de pied et de main sur carte postale. Nous serons situÃ©s Ã  l&rsquo;extÃ
 ©rieur\,  en avant du Centre communautaire Le Mainbourg. Vous aurez aussi l
 &rsquo;occasion de visiter nos locaux. Breuvages et desserts vous seront of
 ferts. En cas de pluie\,  l&rsquo;activitÃ© est[..]\nhttps://relevailles.co
 m/evenement/fete-famille/
URL:https://relevailles.com/evenement/fete-famille/
END:VEVENT
END:VCALENDAR