BEGIN:VCALENDAR
VERSION:2.0
PRODID:-//eventon.com NONSGML v1.0//EN
CALSCALE:GREGORIAN
METHOD:PUBLISH
BEGIN:VEVENT
UID:69e633c7d8d1f
DTSTAMP:20260420T141015Z
DTSTART:20220310T233000Z
DTEND:20220311T010000Z
LOCATION:https://relevailles.com/evenement/parlons-de-couches-lavables/
SUMMARY:Parlons de couches lavables
DESCRIPTION:Vous avez envie d’utiliser les couches lavables? Lors de cet 
 atelier vous en apprendrez davantage sur cette option écologique. Les suje
 ts abordés seront\,  entre autres : de l’information&nbsp;générale&nbs
 p;sur les couches lavables\,  les différents modèles offerts sur le march
 é\,  l’entretien\,  les accessoires\,  les services offerts\,  les progr
 ammes de subvention des couches[..]\nhttps://relevailles.com/evenement/parl
 ons-de-couches-lavables/
URL:https://relevailles.com/evenement/parlons-de-couches-lavables/
END:VEVENT
END:VCALENDAR