BEGIN:VCALENDAR
VERSION:2.0
PRODID:-//eventon.com NONSGML v1.0//EN
CALSCALE:GREGORIAN
METHOD:PUBLISH
BEGIN:VEVENT
UID:69e887da6f752
DTSTAMP:20260422T083330Z
DTSTART:20220112T143000Z
DTEND:20220112T163000Z
LOCATION:https://relevailles.com/evenement/introduction-des-aliments-complementaires/
SUMMARY:Introduction des aliments complémentaires
DESCRIPTION:Comment reconnaître les signes lorsque bébé est prêt à fai
 re la transition vers les aliments complémentaires? Cet atelier explique q
 uand\,  pourquoi et comment on introduit les aliments vers l’âge de 6 mo
 is. Il sera également question du matériel pouvant être utilisé lors de
  la préparation des purées ainsi que celui[..]\nhttps://relevailles.com/e
 venement/introduction-des-aliments-complementaires/
URL:https://relevailles.com/evenement/introduction-des-aliments-complementaires/
END:VEVENT
END:VCALENDAR