BEGIN:VCALENDAR
VERSION:2.0
PRODID:-//eventon.com NONSGML v1.0//EN
CALSCALE:GREGORIAN
METHOD:PUBLISH
BEGIN:VEVENT
UID:69e88843a49a1
DTSTAMP:20260422T083515Z
DTSTART:20220107T000000Z
DTEND:20220107T023000Z
LOCATION:
SUMMARY:Groupe de partage L'Empreinte en ligne
DESCRIPTION:Le Groupe de partage L’Empreinte permet aux parents qui viven
 t un deuil périnatal d’avoir un lieu de soutien\,  d’écoute et de ré
 confort qui permet à chacun de faire son propre cheminement. C’est aussi
  un espace d’expression qui accueille les différentes émotions et un en
 droit chaleureux et respectueux. Informations Groupe de[..]\nhttps://releva
 illes.com/evenement/groupe-de-partage-lempreinte-3/
URL:https://relevailles.com/evenement/groupe-de-partage-lempreinte-3/
END:VEVENT
END:VCALENDAR