BEGIN:VCALENDAR
VERSION:2.0
PRODID:-//eventon.com NONSGML v1.0//EN
CALSCALE:GREGORIAN
METHOD:PUBLISH
BEGIN:VEVENT
UID:69e600c548bdc
DTSTAMP:20260420T103237Z
DTSTART:20260622T173000Z
DTEND:20260622T193000Z
LOCATION:CRP Les Relevailles de Montréal 14115\,  rue Prince-Arthur\,  bureau 341
SUMMARY:À table avec bébé 2/3
DESCRIPTION:Que vous vouliez opter pour une approche traditionnelle d’int
 roduction en servant des purées à votre bébé ou bien par l’approche d
 e Diversification alimentaire menée par l’enfant (DME)\,  cette série e
 st pour vous.Ces trois rencontres visent à informer et à clarifier certai
 nes recommandations reliées à l’introduction des aliments complémentai
 res dans le[..]\nhttps://relevailles.com/evenement/a-table-avec-bebe-2-3-11
 /
URL:https://relevailles.com/evenement/a-table-avec-bebe-2-3-11/
END:VEVENT
END:VCALENDAR